BEGIN:VCALENDAR
VERSION:2.0
PRODID:-//Santa Fe NAACP - ECPv6.15.20//NONSGML v1.0//EN
CALSCALE:GREGORIAN
METHOD:PUBLISH
X-WR-CALNAME:Santa Fe NAACP
X-ORIGINAL-URL:https://naacpsfnm.org
X-WR-CALDESC:Events for Santa Fe NAACP
REFRESH-INTERVAL;VALUE=DURATION:PT1H
X-Robots-Tag:noindex
X-PUBLISHED-TTL:PT1H
BEGIN:VTIMEZONE
TZID:America/Denver
BEGIN:DAYLIGHT
TZOFFSETFROM:-0700
TZOFFSETTO:-0600
TZNAME:MDT
DTSTART:20210314T090000
END:DAYLIGHT
BEGIN:STANDARD
TZOFFSETFROM:-0600
TZOFFSETTO:-0700
TZNAME:MST
DTSTART:20211107T080000
END:STANDARD
BEGIN:DAYLIGHT
TZOFFSETFROM:-0700
TZOFFSETTO:-0600
TZNAME:MDT
DTSTART:20220313T090000
END:DAYLIGHT
BEGIN:STANDARD
TZOFFSETFROM:-0600
TZOFFSETTO:-0700
TZNAME:MST
DTSTART:20221106T080000
END:STANDARD
BEGIN:DAYLIGHT
TZOFFSETFROM:-0700
TZOFFSETTO:-0600
TZNAME:MDT
DTSTART:20230312T090000
END:DAYLIGHT
BEGIN:STANDARD
TZOFFSETFROM:-0600
TZOFFSETTO:-0700
TZNAME:MST
DTSTART:20231105T080000
END:STANDARD
BEGIN:DAYLIGHT
TZOFFSETFROM:-0700
TZOFFSETTO:-0600
TZNAME:MDT
DTSTART:20240310T090000
END:DAYLIGHT
BEGIN:STANDARD
TZOFFSETFROM:-0600
TZOFFSETTO:-0700
TZNAME:MST
DTSTART:20241103T080000
END:STANDARD
END:VTIMEZONE
BEGIN:VEVENT
DTSTART;TZID=America/Denver:20230224T100000
DTEND;TZID=America/Denver:20230224T110000
DTSTAMP:20260421T165440
CREATED:20230121T042649Z
LAST-MODIFIED:20230130T235424Z
UID:1209-1677232800-1677236400@naacpsfnm.org
SUMMARY:Housing Justice Committee meeting
DESCRIPTION:Our next Housing Justice Committee meeting will take place on Zoom at 10:00 AM on Friday\, February 24th. If you would like an invitation\, please write us at naacpsfnm@gmail.com
URL:https://naacpsfnm.org/event/housing-justice-committee-meeting/
END:VEVENT
BEGIN:VEVENT
DTSTART;TZID=America/Denver:20230221T183000
DTEND;TZID=America/Denver:20230221T200000
DTSTAMP:20260421T165440
CREATED:20230213T190227Z
LAST-MODIFIED:20230213T190227Z
UID:1243-1677004200-1677009600@naacpsfnm.org
SUMMARY:February General Membership meeting (as rescheduled)
DESCRIPTION:
URL:https://naacpsfnm.org/event/february-general-membership-meeting-as-rescheduled/
END:VEVENT
BEGIN:VEVENT
DTSTART;TZID=America/Denver:20230214T183000
DTEND;TZID=America/Denver:20230214T200000
DTSTAMP:20260421T165440
CREATED:20230119T180300Z
LAST-MODIFIED:20230213T185945Z
UID:1204-1676399400-1676404800@naacpsfnm.org
SUMMARY:General Membership meeting posponed to Feb 21st
DESCRIPTION:This particular General Membership Meeting is Postponed Until February 21\, 2023.  Our General Membership meetings are held via Zoom the 2nd Tuesday of every month\, at 6:30 pm. Contact us for an invitation at naacpsfnm@gmail.com
URL:https://naacpsfnm.org/event/general-membership-meeting-8/
END:VEVENT
BEGIN:VEVENT
DTSTART;TZID=America/Denver:20230110T183000
DTEND;TZID=America/Denver:20230110T200000
DTSTAMP:20260421T165440
CREATED:20230119T175709Z
LAST-MODIFIED:20230119T175709Z
UID:1201-1673375400-1673380800@naacpsfnm.org
SUMMARY:General Membership Meeting
DESCRIPTION:Our General Membership meetings are held via Zoom the 2nd Tuesday of every month\, at 6:30 pm. Contact us for an invitation at naacpsfnm@gmail.com
URL:https://naacpsfnm.org/event/general-membership-meeting-7/
END:VEVENT
BEGIN:VEVENT
DTSTART;TZID=America/Denver:20220510T183000
DTEND;TZID=America/Denver:20220510T200000
DTSTAMP:20260421T165440
CREATED:20220509T022724Z
LAST-MODIFIED:20220509T022724Z
UID:791-1652207400-1652212800@naacpsfnm.org
SUMMARY:General Membership Meeting
DESCRIPTION:Our next General Membership meeting will take place on Zoom at 6:30 PM on Tuesday\, May 10th. If you would like an invitation\, please write us at naacpsfnm@gmail.com
URL:https://naacpsfnm.org/event/general-membership-meeting-6/
END:VEVENT
BEGIN:VEVENT
DTSTART;TZID=America/Denver:20220412T183000
DTEND;TZID=America/Denver:20220412T200000
DTSTAMP:20260421T165440
CREATED:20220404T195201Z
LAST-MODIFIED:20220404T195201Z
UID:723-1649788200-1649793600@naacpsfnm.org
SUMMARY:General Membership meeting
DESCRIPTION:Our next General Membership meeting will take place on Zoom at 6:30 PM on Tuesday\, April 12th. If you would like an invitation\, please write us at naacpsfnm@gmail.com
URL:https://naacpsfnm.org/event/general-membership-meeting-5/
END:VEVENT
BEGIN:VEVENT
DTSTART;TZID=America/Denver:20220315T183000
DTEND;TZID=America/Denver:20220315T200000
DTSTAMP:20260421T165440
CREATED:20220308T064653Z
LAST-MODIFIED:20220308T064653Z
UID:658-1647369000-1647374400@naacpsfnm.org
SUMMARY:General Membership meeting
DESCRIPTION:Our General Membership meeting is normally on the 2nd Tuesday of each month. This month it is postponed one week to March 15th. Invitations are sent to all members. A guest pass can be requested on our Contact Us page.
URL:https://naacpsfnm.org/event/general-membership-meeting-4/
END:VEVENT
BEGIN:VEVENT
DTSTART;TZID=America/Denver:20220308T183000
DTEND;TZID=America/Denver:20220308T200000
DTSTAMP:20260421T165440
CREATED:20220227T004514Z
LAST-MODIFIED:20220308T064358Z
UID:644-1646764200-1646769600@naacpsfnm.org
SUMMARY:General Membership Meeting postponed until March 15
DESCRIPTION:Our General Membership meeting is on the 2nd Tuesday of each month. Invitations are sent to all members. A guest pass can be requested on our Contact Us page.
URL:https://naacpsfnm.org/event/general-membership-meeting-3/
END:VEVENT
BEGIN:VEVENT
DTSTART;TZID=America/Denver:20220227T150000
DTEND;TZID=America/Denver:20220227T163000
DTSTAMP:20260421T165440
CREATED:20220227T001551Z
LAST-MODIFIED:20220227T001551Z
UID:629-1645974000-1645979400@naacpsfnm.org
SUMMARY:Executive Committee Meeting
DESCRIPTION:
URL:https://naacpsfnm.org/event/executive-committee-meeting-2/
END:VEVENT
BEGIN:VEVENT
DTSTART;TZID=America/Denver:20220208T183000
DTEND;TZID=America/Denver:20220208T200000
DTSTAMP:20260421T165440
CREATED:20220201T021450Z
LAST-MODIFIED:20220201T021450Z
UID:548-1644345000-1644350400@naacpsfnm.org
SUMMARY:General Membership Meeting
DESCRIPTION:Our General Membership meeting is on the 2nd Tuesday of each month. Invitations are sent to members or a guest pass can be requested on our Contact Us page.
URL:https://naacpsfnm.org/event/general-membership-meeting-2/
LOCATION:Zoom
END:VEVENT
BEGIN:VEVENT
DTSTART;TZID=America/Denver:20220124T120000
DTEND;TZID=America/Denver:20220124T130000
DTSTAMP:20260421T165440
CREATED:20220118T020947Z
LAST-MODIFIED:20220118T021530Z
UID:522-1643025600-1643029200@naacpsfnm.org
SUMMARY:Mini-Rally to Thank Legislators
DESCRIPTION:The Santa Fe NAACP is signing on to letter thanking New Mexico legislators for committing to increased funding and services and sound policies to improve New Mexico. If you can\, meet at noon for mini-rally at east entrance of the Roundhouse.  Representative Herndon will be saying a few words to those gathered at noon. Senator Stefanics will read letter during floor announcements in the Senate and Speaker Egolf or Representative Herndon will read in the House on January 24. Stay strong for the Beloved Community.
URL:https://naacpsfnm.org/event/mini-rally-to-thank-legislators/
LOCATION:Roundhouse\, 490 Old Santa Fe Trail\, Santa Fe\, NM\, 87501
END:VEVENT
BEGIN:VEVENT
DTSTART;TZID=America/Denver:20220117T120000
DTEND;TZID=America/Denver:20220117T120000
DTSTAMP:20260421T165440
CREATED:20220114T034616Z
LAST-MODIFIED:20220114T034940Z
UID:500-1642420800-1642420800@naacpsfnm.org
SUMMARY:KANW (89.1 FM) and NAACP Santa Fe reflections on MLK\, Jr.
DESCRIPTION:Lou Levin\, Santa Fe NAACP president and Cedric Page\, MLK\, Jr Commemoration Committee Chair will provide an overview of branch activities in 2021 and an introduction to the Martin Luther King\, Jr. Papers Project at Stanford University and commentary by Professor Clayborne Carson\, Martin Luther King\, Jr. Research and Education Institute director.
URL:https://naacpsfnm.org/event/500/
LOCATION:KANW (89.1 FM) Radio
END:VEVENT
BEGIN:VEVENT
DTSTART;TZID=America/Denver:20220111T183000
DTEND;TZID=America/Denver:20220111T200000
DTSTAMP:20260421T165440
CREATED:20220104T201154Z
LAST-MODIFIED:20220107T180135Z
UID:227-1641925800-1641931200@naacpsfnm.org
SUMMARY:General Membership Meeting
DESCRIPTION:Our General Membership meeting is on the 2nd Tuesday of each month. Invitations are sent to members or a guest pass can be requested on our Contact Us page.
URL:https://naacpsfnm.org/event/general-membership-meeting/
LOCATION:Zoom
END:VEVENT
BEGIN:VEVENT
DTSTART;TZID=America/Denver:20220109T153000
DTEND;TZID=America/Denver:20220109T170000
DTSTAMP:20260421T165440
CREATED:20220107T175949Z
LAST-MODIFIED:20220107T175949Z
UID:246-1641742200-1641747600@naacpsfnm.org
SUMMARY:Executive Committee Meeting
DESCRIPTION:
URL:https://naacpsfnm.org/event/executive-committee-meeting/
LOCATION:Zoom
END:VEVENT
BEGIN:VEVENT
DTSTART;TZID=America/Denver:20220108T130000
DTEND;TZID=America/Denver:20220108T140000
DTSTAMP:20260421T165440
CREATED:20220107T181037Z
LAST-MODIFIED:20220107T181037Z
UID:251-1641646800-1641650400@naacpsfnm.org
SUMMARY:Communications\,  Press  &Publicity Committee meeting
DESCRIPTION:
URL:https://naacpsfnm.org/event/communications-press-publicity-committee-meeting/
LOCATION:Zoom
END:VEVENT
END:VCALENDAR